BEGIN:VCALENDAR
VERSION:2.0
PRODID:-//Brazilian Wrestling Federation - ECPv4.6.21//NONSGML v1.0//EN
CALSCALE:GREGORIAN
METHOD:PUBLISH
X-WR-CALNAME:Brazilian Wrestling Federation
X-ORIGINAL-URL:http://bwf.com.br
X-WR-CALDESC:Eventos para Brazilian Wrestling Federation
BEGIN:VEVENT
DTSTART;TZID=America/Sao_Paulo:20200221T140000
DTEND;TZID=America/Sao_Paulo:20200221T153000
DTSTAMP:20260424T061920
CREATED:20200215T030708Z
LAST-MODIFIED:20200215T030708Z
UID:1646-1582293600-1582299000@bwf.com.br
SUMMARY:Sesc Verão 2020
DESCRIPTION:Após a Noite dos Campeões a BWF já tem o seu próximo Show confirmado ainda em Fevereiro. Dia 21\, Sexta-feira de Carnaval\, no Sesc do Carmo\, às 14h\, a BWF fará um show com os seus principais lutadores como parte do projeto Sesc Verão. O Show é livre para todas as idades e a entrada é gratuita. Você não pode perder! \n
URL:http://bwf.com.br/evento/sesc-verao-2020/
LOCATION:Rua do Carmo\, 147\, São Paulo\, São Paulo\, Brasil
END:VEVENT
END:VCALENDAR