BEGIN:VCALENDAR
VERSION:2.0
PRODID:-//Brazilian Wrestling Federation - ECPv4.6.21//NONSGML v1.0//EN
CALSCALE:GREGORIAN
METHOD:PUBLISH
X-WR-CALNAME:Brazilian Wrestling Federation
X-ORIGINAL-URL:http://bwf.com.br
X-WR-CALDESC:Eventos para Brazilian Wrestling Federation
BEGIN:VEVENT
DTSTART;TZID=America/Sao_Paulo:20180811T180000
DTEND;TZID=America/Sao_Paulo:20180811T203000
DTSTAMP:20260424T031239
CREATED:20180806T024637Z
LAST-MODIFIED:20180811T020232Z
UID:782-1534010400-1534019400@bwf.com.br
SUMMARY:BWF In House #16
DESCRIPTION:A 16ª edição do “BWF In House” traz a disputa “Maremoto”: uma batalha campal com 20 lutadores onde o vencedor ganha o direito de disputar — a qualquer momento — um cinturão da BWF à sua escolha. \nO evento serve como palco para as gravações do BWF Telecatch\, programa semanal da Brazilian Wrestling Federation transmitido pela TV através de suas emissoras parceiras\, e também disponibilizado no site da BWF\, e no Youtube. Essa é a chance de você ficar sabendo antes de todo mundo o que vai rolar no Telecatch\, além de acompanhar ao vivo e à cores o melhor da luta livre nacional bem diante de seus olhos! \nVenha prestigiar este show de luta livre com a BWF! \n  \nCombates confirmados:\n“Maremoto”: \n\n\nRurik Jr.\nToko\nSpeed\nMatths Alves\nVictor Boer\nDillios\nMichael Fury\nTubarão Negro\nMax Miller\nNocaute Jack\n\n \n\n\nDynamo\nAcce\nFred Turbo\nFúria\nThe Roddox\nLobo Peruano\nAlbert\nRapha Luque\nBig Boy\nXandão\n\n \n*Mais combates poderão ocorrer durante o evento. \n  \nImportante\nO “BWF In House” não possui reserva antecipada de ingressos\, estando disponíveis para venda apenas na porta do evento. A bilheteria começa a atender aos visitantes 1 hora antes do início do evento. \n
URL:http://bwf.com.br/evento/bwf-in-house-16/
LOCATION:Rua Tocandira\, 126\, São Paulo\, São Paulo\, 03345050\, Brasil
ATTACH;FMTTYPE=image/jpeg:http://bwf.com.br/wp-content/uploads/2018/08/38178447_1186736534802200_2687264254314151936_n.jpg
ORGANIZER;CN="Brazilian%20Wrestling%20Federation":MAILTO:bobjunior@bwf.com.br
END:VEVENT
END:VCALENDAR